BEGIN:VCALENDAR
VERSION:2.0
PRODID:-//Klostermühle Heilsbronn - ECPv6.15.20//NONSGML v1.0//EN
CALSCALE:GREGORIAN
METHOD:PUBLISH
X-WR-CALNAME:Klostermühle Heilsbronn
X-ORIGINAL-URL:https://klostermuehle-heilsbronn.de
X-WR-CALDESC:Veranstaltungen für Klostermühle Heilsbronn
REFRESH-INTERVAL;VALUE=DURATION:PT1H
X-Robots-Tag:noindex
X-PUBLISHED-TTL:PT1H
BEGIN:VTIMEZONE
TZID:Europe/Berlin
BEGIN:DAYLIGHT
TZOFFSETFROM:+0100
TZOFFSETTO:+0200
TZNAME:CEST
DTSTART:20200329T010000
END:DAYLIGHT
BEGIN:STANDARD
TZOFFSETFROM:+0200
TZOFFSETTO:+0100
TZNAME:CET
DTSTART:20201025T010000
END:STANDARD
BEGIN:DAYLIGHT
TZOFFSETFROM:+0100
TZOFFSETTO:+0200
TZNAME:CEST
DTSTART:20210328T010000
END:DAYLIGHT
BEGIN:STANDARD
TZOFFSETFROM:+0200
TZOFFSETTO:+0100
TZNAME:CET
DTSTART:20211031T010000
END:STANDARD
BEGIN:DAYLIGHT
TZOFFSETFROM:+0100
TZOFFSETTO:+0200
TZNAME:CEST
DTSTART:20220327T010000
END:DAYLIGHT
BEGIN:STANDARD
TZOFFSETFROM:+0200
TZOFFSETTO:+0100
TZNAME:CET
DTSTART:20221030T010000
END:STANDARD
BEGIN:DAYLIGHT
TZOFFSETFROM:+0100
TZOFFSETTO:+0200
TZNAME:CEST
DTSTART:20230326T010000
END:DAYLIGHT
BEGIN:STANDARD
TZOFFSETFROM:+0200
TZOFFSETTO:+0100
TZNAME:CET
DTSTART:20231029T010000
END:STANDARD
END:VTIMEZONE
BEGIN:VEVENT
DTSTART;TZID=Europe/Berlin:20220713T190000
DTEND;TZID=Europe/Berlin:20220713T200000
DTSTAMP:20260419T150706
CREATED:20220425T130033Z
LAST-MODIFIED:20220425T143500Z
UID:1349-1657738800-1657742400@klostermuehle-heilsbronn.de
SUMMARY:Mittwochsmühle - Mühlengeschichte bei Schmalzbrot und Klosterwein
DESCRIPTION:Am 13 Juli 2022 möchten wir Sie herzlich zur Mühlenführung „Mittwochsmühle“ einladen. Dabei haben Sie die Möglichkeit eine Führung durch die Klostermühle Heilsbronn zu genießen\, viele interessante Geschichten zu erfahren und im Anschluss bei einem Glas Randersacker „Ewig Leben“ (ehemals im Klosterbesitz) und Schmalzbrot noch vieles Weitere zu erfahren. \n„Geschichten und Geschichte rund um die Klostermühle – Wissenswertes von Mönchen und Mühlen – sagenhaftes und staunenswertes.“ \nDie Anmeldung über das Formular oder per eMail an Jutta@gruber-an.de ist erwünscht. Auch falls Sie keine Bestätigung erhalten sollten\, haben wir Ihre Anmeldung zur Kenntnis genommen. Vielen Dank! \nFalls Sie Fragen zu der Führung haben\, wenden Sie sich gerne jederzeit über das Kontaktformular unter dem Reiter Führungen oder per eMail  Jutta@gruber-an.de an Jutta Gruber. \nWeiter unten finden Sie Informationen zum Unkostenbeitrag und Veranstaltungsort. \nBitte aktiviere JavaScript in deinem Browser\, um dieses Formular fertigzustellen.Ihr Name *VornameNachnameIhre E-Mail *Datum der Führung *Anzahl an Personen *Ihre Nachricht *DSGVO-Einverständnis *Ich willige ein\, dass diese Website meine übermittelten Informationen speichert\, sodass meine Anfrage beantwortet werden kann.\nClick here to accept hCaptcha cookies before sending the form.\nAbsenden  \n 
URL:https://klostermuehle-heilsbronn.de/event/mittwochsmuehle-13072022/
LOCATION:Klostermühle Heilsbronn\, Mühlgasse 9\, 91560\, Bayern\, 91560\, Deutschland
CATEGORIES:Mittwochsmühle
ATTACH;FMTTYPE=image/jpeg:https://klostermuehle-heilsbronn.de/wp-content/uploads/2021/06/IMG_20210530_121200-scaled.jpg
END:VEVENT
BEGIN:VEVENT
DTSTART;TZID=Europe/Berlin:20210721T190000
DTEND;TZID=Europe/Berlin:20210721T200000
DTSTAMP:20260419T150706
CREATED:20210314T174035Z
LAST-MODIFIED:20210728T140635Z
UID:993-1626894000-1626897600@klostermuehle-heilsbronn.de
SUMMARY:Mittwochsmühle
DESCRIPTION:Geschichten und Geschichte rund um die Klostermühle – Wissenswertes von Mönchen und Mühlen – sagenhaftes und staunenswertes. \nDie Klostermühle betrachten und im Anschluss bei einem Glas Randersacker „Ewig Leben“ (Ehemals im Klosterbesitz) und Schmalzbrot vieles erfahren. \n(Wegen Corona ist dieser Veranstaltungstermin leider nur vorläufig und wir bitten Sie sich über das Formular oder per eMail an  Jutta@gruber-AN.de anzumelden)
URL:https://klostermuehle-heilsbronn.de/event/mittwochsmuehle/
LOCATION:Klostermühle Heilsbronn\, Mühlgasse 9\, 91560\, Bayern\, 91560\, Deutschland
CATEGORIES:Mittwochsmühle
END:VEVENT
BEGIN:VEVENT
DTSTART;TZID=Europe/Berlin:20210630T190000
DTEND;TZID=Europe/Berlin:20210630T210000
DTSTAMP:20260419T150706
CREATED:20210314T173744Z
LAST-MODIFIED:20210630T113734Z
UID:991-1625079600-1625086800@klostermuehle-heilsbronn.de
SUMMARY:[Findet statt!]Musikalische Mühlenführung “Es klapperte die Mühle”
DESCRIPTION:Eine Mühlenführung der ganz besonderen Art – Geschichte\, Gebäude und musikalischer Genuss vereint mit Jutta Gruber. \nDie Sopranetten ziehen mit den Zuhörern durch die Mühle und singen dazu. \nIm romantischen Innenhof beim plätscherndem Springbrunnen erklingt “In einem kühlen Grunde”. \nDie Zuhörer werden eingeladen mit zu singen: “Das Wandern ist des Müllers Lust”… und schließlich wird zu einem Gläschen Wein ein Trinklied erschallen… \nwww.sopranetten.de \n(Wegen Corona ist dieser Veranstaltungstermin leider nur vorläufig und wir bitten Sie sich über das Formular oder per eMail an  Jutta@gruber-AN.de anzumelden)
URL:https://klostermuehle-heilsbronn.de/event/musikalische-muehlenfuehrung-es-klapperte-die-muehle-2/
LOCATION:Klostermühle Heilsbronn\, Mühlgasse 9\, 91560\, Bayern\, 91560\, Deutschland
CATEGORIES:Musikalische Mühlenführung "Es klapperte die Mühle..."
END:VEVENT
BEGIN:VEVENT
DTSTART;TZID=Europe/Berlin:20210519T190000
DTEND;TZID=Europe/Berlin:20210519T210000
DTSTAMP:20260419T150706
CREATED:20210314T173144Z
LAST-MODIFIED:20210515T090508Z
UID:988-1621450800-1621458000@klostermuehle-heilsbronn.de
SUMMARY:[ABGESAGT] Musikalische Mühlenführung "Es klapperte die Mühle"
DESCRIPTION:Wichtiger Hinweis: Die Mühlenführung findet aufgrund von Corona leider nicht statt. \nEine Mühlenführung der ganz besonderen Art – Geschichte\, Gebäude und musikalischer Genuss vereint mit Jutta Gruber. \nDie Sopranetten ziehen mit den Zuhörern durch die Mühle und singen dazu. \nIm romantischen Innenhof beim plätscherndem Springbrunnen erklingt „In einem kühlen Grunde“. \nDie Zuhörer werden eingeladen mit zu singen: „Das Wandern ist des Müllers Lust“… und schließlich wird zu einem Gläschen Wein ein Trinklied erschallen… \nwww.sopranetten.de \n(Wegen Corona ist dieser Veranstaltungstermin leider nur vorläufig und wir bitten Sie sich über das Formular oder per eMail an  Jutta@gruber-AN.de anzumelden)
URL:https://klostermuehle-heilsbronn.de/event/musikalische-muehlenfuehrung-es-klapperte-die-muehle/
LOCATION:Klostermühle Heilsbronn\, Mühlgasse 9\, 91560\, Bayern\, 91560\, Deutschland
CATEGORIES:Musikalische Mühlenführung "Es klapperte die Mühle..."
END:VEVENT
END:VCALENDAR